BEGIN:VCALENDAR
VERSION:2.0
PRODID:-//ChamberMaster//Event Calendar 2.0//EN
METHOD:PUBLISH
X-PUBLISHED-TTL:P3D
REFRESH-INTERVAL:P3D
CALSCALE:GREGORIAN
BEGIN:VEVENT
DTSTART:20160122T193000Z
DTEND:20160122T210000Z
X-MICROSOFT-CDO-ALLDAYEVENT:FALSE
SUMMARY:Best Business Tips w/ J. Rosen Group
DESCRIPTION:Join us for FUN Fridays and enjoy a Lunch 'N' Learn presentation from Jory Rosen of the J. Rosen Group regarding "Best Business Tips for 2016."\n\n\n\nAt this presentation\, attendees will receive real tips and ideas on how to meet your goals and grow your business. From marketing and sales advice to business strategies and real world tools\, the J. Rosen Group is here to help you succeed. This is one session you cannot miss!\n\n \n\nJory Rosen has developed a reputation as one of the best creative marketing and advertising minds in the industry over the last 25 years. With over 200 hours of programming\, and 20 campaign launches\, he has repeatedly shown that he knows what works\, what sells\, and what the public wants. Jory is also heavily involved in the local community\, being a member as well as a board member of the LAX Coastal Chamber of Commerce\, and a sponsor of LAX Coworking.
X-ALT-DESC;FMTTYPE=text/html:<br style="line-height: 20.8px\;" />\n<span style="line-height: 20.8px\;"><strong>Join us for FUN Fridays </strong></span><strong style="line-height: 20.8px\;"><span style="line-height: 20.8px\;">and enjoy a&nbsp\;Lunch &#39\;N&#39\; Learn presentation from Jory Rosen of the <a href="http://www.jrosengroup.com/" target="_blank">J. Rosen Group</a> regarding &quot\;Best Business Tips for 2016.&quot\;</span></strong><br />\n<br />\n<strong style="line-height: 20.8px\;"><span style="line-height: 20.8px\;">At this presentation\, attendees will receive real tips and ideas on how to meet your goals and grow your business. From marketing and sales advice to business strategies and real world tools\, the J. Rosen Group is here to help you succeed. This is one session you cannot miss!</span></strong><br />\n<span style="line-height: 20.8px\;">&nbsp\;</span><br style="line-height: 20.8px\;" />\n<i>Jory Rosen has developed a reputation as one of the best creative marketing and advertising minds in the industry over the last 25 years. With over 200 hours of programming\, and 20 campaign launches\, he has repeatedly shown that he knows what works\, what sells\, and what the public wants. Jory is also heavily involved in the local community\, being a member as well as a board member of the LAX Coastal Chamber of Commerce\, and a sponsor of LAX Coworking.</i>
LOCATION:LAX Coastal Chamber 9100 S. Sepulveda Blvd.\, Ste. 208 Los Angeles\, CA 90045
UID:e.1534.1192
SEQUENCE:3
DTSTAMP:20260425T113533Z
URL:https://business.laxcoastal.com/events/details/best-business-tips-w-j-rosen-group-01-22-2016-1192
END:VEVENT

END:VCALENDAR
