BEGIN:VCALENDAR
VERSION:2.0
PRODID:-//ChamberMaster//Event Calendar 2.0//EN
METHOD:PUBLISH
X-PUBLISHED-TTL:P3D
REFRESH-INTERVAL:P3D
CALSCALE:GREGORIAN
BEGIN:VEVENT
DTSTART:20151106T193000Z
DTEND:20151106T210000Z
X-MICROSOFT-CDO-ALLDAYEVENT:FALSE
SUMMARY:Blogging for Business @ LAX Coworking
DESCRIPTION:Join us for Free Fridays @ LAX Coworking and enjoy a Lunch 'N' Learn presentation from Debra Eckerling of Guided Goals regarding "Blogging for Business." Guests will also be treated with Cabo Chips snacks and Just Chill drinks!\n\n\n\nA blog is an excellent way to share your knowledge and experience\, and position yourself as an expert in your field. Debra will share techniques for how to tap into your expertise\, generate ideas and write posts for your business blog. She'll also include tips for creating an editorial calendar\, promoting your posts and more. \n\n \n\nProject Catalyst Debra Eckerling works with individuals and small businesses to strategize\, set goals and manage their projects. Debra is the creator of Write On Online\, a website and community for writers\, and host of the Guided Goals Podcast. She is also the author of Purple Pencil Adventures: Writing Prompts for Kids of All Ages\, and an editor for Social Media Examiner.
X-ALT-DESC;FMTTYPE=text/html:<br />\n<span style="line-height: 20.7999992370605px\;"><strong>Join us for Free Fridays @ LAX&nbsp\;</strong></span><strong>Coworking<span style="line-height: 20.7999992370605px\;">&nbsp\;and enjoy a&nbsp\;Lunch &#39\;N&#39\; Learn presentation from Debra Eckerling of <a href="https://itunes.apple.com/us/podcast/guided-goals-podcast/id1046414909">Guided Goals</a> regarding &quot\;Blogging for Business.&quot\; Guests will also be treated with <a href="http://www.cabochips.com/" target="_blank">Cabo Chips</a> snacks and <a href="http://drinkjustchill.com/" target="_blank">Just Chill</a> drinks!</span></strong><br />\n<br />\nA blog is an excellent way to share your knowledge and experience\, and position yourself as an expert in your field.&nbsp\;Debra will share techniques for how to tap into your expertise\, generate ideas and write posts for your business blog. She&rsquo\;ll also include tips for creating an editorial calendar\, promoting your posts and more.&nbsp\;<br />\n&nbsp\;<br />\n<em>Project Catalyst Debra Eckerling works with individuals and small businesses to strategize\, set goals and manage their projects. Debra is the creator of Write On Online\, a website and community for writers\, and host of the Guided Goals Podcast. She is also the author of Purple Pencil Adventures: Writing Prompts for Kids of All Ages\, and an editor for Social Media Examiner.</em>
LOCATION:LAX Coworking 9100 S. Sepulveda Blvd.\, Ste. 208 Los Angeles\, CA 90045
UID:e.1534.1140
SEQUENCE:3
DTSTAMP:20260423T005631Z
URL:https://business.laxcoastal.com/events/details/blogging-for-business-lax-coworking-11-06-2015-1140
END:VEVENT

END:VCALENDAR
