BEGIN:VCALENDAR
VERSION:2.0
PRODID:-//ChamberMaster//Event Calendar 2.0//EN
METHOD:PUBLISH
X-PUBLISHED-TTL:P3D
REFRESH-INTERVAL:P3D
CALSCALE:GREGORIAN
BEGIN:VEVENT
DTSTART:20190226T194500Z
DTEND:20190226T210000Z
X-MICROSOFT-CDO-ALLDAYEVENT:FALSE
SUMMARY:Building a Better Brand for the New Year w/ HOW Creative
DESCRIPTION:Join LAX Coworking for their New Year\, New Business series! With a new year comes new challenges\, but also new opportunities. Start 2019 off right with business and professional development\, presented by the LAX Coastal Chamber.\n\n\n\nThis seminar is for entrepreneurs to CEOs. If you want to see profits in your business\, it's time to pay attention to your brand.\n\n\n\nA company cannot afford to waste its budget year over year with trial-and-error branding. By undergoing a deeper consideration of your brand\, you can create a lasting positive impact that increases sales\, customers\, loyalty\, value and overall compelling experience.\n\n\n\nIn Howard A. Lim's presentation\, he'll walk you through the most common branding mistakes that cost businesses thousands of dollars each year. You'll discover how branding your business the right way can help your company stay relevant and unique in the marketplace for the next 5\, 10\, or 15 years.\n\n\n\nExplaining specific tactics such as sequencing your online and offline media for greater ROI\, Howard will help you uncover ways to create a brand and culture that attracts customers and employee talent\, as well as open doors to increased revenue streams. \n\n\n\nOther Takeaways:\n\n\n	Leverage your business\, products and services to give you a competitive edge\n	Develop the 'right' strategy and execution for your business\, and turn it into a radically more successful brand\n	Uncover branding secrets used by Fortune 100 companies\n	Integrate your media into a single\, authoritative voice\n	Turn your business into a unique brand that provides a memorable experience\n\n_______________\n\n\n\nFortune 500 Branding Expert Howard A. Lim\, President of HOWCreative.com. Howard is an award-winning business & branding strategist\, and the author of Authentic Branding . His clients include entrepreneurs\, business owners\, and Fortune 500 brands including Apple\, Disney\, Oracle\, and HBO\, to name a few. Since 1987. Howard Lim has earned his reputation as a disruptive innovator\, and his boutique firm\, HOW Creative. He presents actual before-and-after case studies that have influenced billions of dollars in revenue\, and value for companies he has served.\n\n\n\nMr. Lim's work has been featured in Delta Airlines\, Wall Street Journal\, Los Angeles Times\, New York Times\, Macworld\, BRANDWEEK\, HOW Magazine\, ABC\, FOX\, CBS\, just to name a few.
X-ALT-DESC;FMTTYPE=text/html:<br />\n<em><strong><span style="color:#B22222\;">Join LAX Coworking for their New Year\, New Business series! </span>With a new year comes new challenges\, but also new opportunities. Start 2019 off right with business and professional development\, presented by the LAX Coastal Chamber.</strong></em><br />\n<br />\n<strong>This seminar is for entrepreneurs to CEOs. If you want to see profits in your business\, it&#39\;s time to pay attention to your brand.</strong><br />\n<br />\nA company cannot afford to waste its budget year over year with trial-and-error branding. By undergoing a deeper consideration of your brand\, you can create a lasting positive impact that increases sales\, customers\, loyalty\, value and overall compelling experience.<br />\n<br />\nIn Howard A. Lim&#39\;s presentation\, he&#39\;ll walk you through the most common branding mistakes that cost businesses thousands of dollars each year. You&#39\;ll discover how branding your business the right way can help your company stay relevant and unique in the marketplace for the next 5\, 10\, or 15 years.<br />\n<br />\nExplaining specific tactics such as sequencing your online and offline media for greater ROI\, Howard will help you uncover ways to create a brand and culture that attracts customers and employee talent\, as well as open doors to increased revenue streams.&nbsp\;<br />\n<br />\n<strong>Other Takeaways:</strong>\n\n<ul>\n	<li>Leverage your business\, products and services to give you a competitive edge</li>\n	<li>Develop the &lsquo\;right&rsquo\; strategy and execution for your business\, and turn it into a radically more successful brand</li>\n	<li>Uncover branding secrets used by Fortune 100 companies</li>\n	<li>Integrate your media into a single\, authoritative voice</li>\n	<li>Turn your business into a unique brand that provides a memorable experience</li>\n</ul>\n_______________<br />\n<br />\n<em><strong>Fortune 500 Branding Expert Howard A. Lim\, President of <a href="https://www.howcreative.com/">HOWCreative.com.</a></strong><a href="https://www.howcreative.com/"> </a>Howard is an award-winning business &amp\; branding strategist\, and the author of Authentic Branding&reg\;. His clients include entrepreneurs\, business owners\, and Fortune 500 brands including Apple\, Disney\, Oracle\, and HBO\, to name a few. Since 1987. Howard Lim has earned his reputation as a disruptive innovator\, and his boutique firm\, HOW Creative. He presents actual before-and-after case studies that have influenced billions of dollars in revenue\, and value for companies he has served.<br />\n<br />\nMr. Lim&rsquo\;s work has been featured in Delta Airlines\, Wall Street Journal\, Los Angeles Times\, New York Times\, Macworld\, BRANDWEEK\, HOW Magazine\, ABC\, FOX\, CBS\, just to name a few.</em><br />\n<br />\n<br />\n&nbsp\;\n<ul>\n</ul>\n
LOCATION:Chamber Office 9100 S. Sepulveda Blvd.\, Ste. 210 Los Angeles\, CA 90045
UID:e.1534.7864
SEQUENCE:3
DTSTAMP:20260423T021952Z
URL:https://business.laxcoastal.com/events/details/building-a-better-brand-for-the-new-year-w-how-creative-7864
END:VEVENT

END:VCALENDAR
