BEGIN:VCALENDAR
VERSION:2.0
PRODID:-//ChamberMaster//Event Calendar 2.0//EN
METHOD:PUBLISH
X-PUBLISHED-TTL:P3D
REFRESH-INTERVAL:P3D
CALSCALE:GREGORIAN
BEGIN:VEVENT
DTSTART:20160108T193000Z
DTEND:20160108T210000Z
X-MICROSOFT-CDO-ALLDAYEVENT:FALSE
SUMMARY:Goal Setting Workshop
DESCRIPTION:Join us for FUN Fridays and enjoy a Lunch 'N' Learn presentation from Debra Eckerling of Guided Goals regarding "Goal Setting for Business."\n\n\n\nStart the year off right with a goal-setting Lunch N Learn. Come up with a mission statement\, set short and long-term goals\, prioritize\, make a plan\, and get ready to take on 2016!\n\n \n\nProject Catalyst Debra Eckerling works with individuals and small businesses to strategize\, set goals and manage their projects. Debra is the creator of Write On Online\, a website and community for writers\, and host of the Guided Goals Podcast. She is also the author of Purple Pencil Adventures: Writing Prompts for Kids of All Ages\, and an editor for Social Media Examiner.
X-ALT-DESC;FMTTYPE=text/html:<br />\n<span style="line-height: 20.7999992370605px\;"><strong>Join us for FUN Fridays </strong></span><strong><span style="line-height: 20.7999992370605px\;">and enjoy a&nbsp\;Lunch &#39\;N&#39\; Learn presentation from Debra Eckerling of <a href="https://itunes.apple.com/us/podcast/guided-goals-podcast/id1046414909">Guided Goals</a> regarding &quot\;Goal Setting for Business.&quot\;</span></strong><br />\n<br />\nStart the year off right with a goal-setting Lunch N Learn. Come up with a mission statement\, set short and long-term goals\, prioritize\, make a plan\, and get ready to take on 2016!<br />\n&nbsp\;<br />\n<em>Project Catalyst Debra Eckerling works with individuals and small businesses to strategize\, set goals and manage their projects. Debra is the creator of Write On Online\, a website and community for writers\, and host of the Guided Goals Podcast. She is also the author of Purple Pencil Adventures: Writing Prompts for Kids of All Ages\, and an editor for Social Media Examiner.</em>
LOCATION:LAX Coastal Chamber 9100 S. Sepulveda Blvd.\, Ste. 208 Los Angeles\, CA 90045
UID:e.1534.1184
SEQUENCE:3
DTSTAMP:20260422T233643Z
URL:https://business.laxcoastal.com/events/details/goal-setting-workshop-01-08-2016-1184
END:VEVENT

END:VCALENDAR
