BEGIN:VCALENDAR
VERSION:2.0
PRODID:-//ChamberMaster//Event Calendar 2.0//EN
METHOD:PUBLISH
X-PUBLISHED-TTL:P3D
REFRESH-INTERVAL:P3D
CALSCALE:GREGORIAN
BEGIN:VEVENT
DTSTART:20170113T194500Z
DTEND:20170113T210000Z
X-MICROSOFT-CDO-ALLDAYEVENT:FALSE
SUMMARY:Goal Setting Workshop
DESCRIPTION:Join us for a Lunch 'N' Learn presentation from Debra Eckerling of Write On Online regarding "Goal Setting for Business."\n\n\n\nStart the year off right with a goal-setting Lunch N Learn. Come up with a mission statement\, set short and long-term goals\, prioritize\, make a plan\, and get ready to take on 2017!\n\n\n\nProject Catalyst Debra Eckerling works with individuals and small businesses to strategize\, set goals\, and manage their projects. Debra is the creator of Write On Online\, a website and community for writers\, and host of the Guided Goals Podcast. She is also the author of Write On Blogging and Purple Pencil Adventures: Writing Prompts for Kids of All Ages\, an editor for Social Media Examiner\, and co-producer of #140conf.
X-ALT-DESC;FMTTYPE=text/html:<br />\n<strong>Join us for a Lunch &#39\;N&#39\; Learn presentation from Debra Eckerling of <a href="http://writeononline.com/" target="_blank">Write On Online</a> regarding &quot\;Goal Setting for Business.&quot\;</strong><br />\n<br />\nStart the year off right with a goal-setting Lunch N Learn. Come up with a mission statement\, set short and long-term goals\, prioritize\, make a plan\, and get ready to take on 2017!<br />\n<br />\n<em>Project Catalyst Debra Eckerling works with individuals and small businesses to strategize\, set goals\, and manage their projects. Debra is the creator of Write On Online\, a website and community for writers\, and host of the Guided Goals Podcast. She is also the author of Write On Blogging and Purple Pencil Adventures: Writing Prompts for Kids of All Ages\, an editor for Social Media Examiner\, and co-producer of #140conf.<br />\n&nbsp\;</em><br />\n&nbsp\;
LOCATION:LAX Coastal Chamber 9100 S. Sepulveda Blvd.\, Ste. 208 Los Angeles\, CA 90045
UID:e.1534.1356
SEQUENCE:3
DTSTAMP:20260422T220357Z
URL:https://business.laxcoastal.com/events/details/goal-setting-workshop-1356
END:VEVENT

END:VCALENDAR
