BEGIN:VCALENDAR
VERSION:2.0
PRODID:-//ChamberMaster//Event Calendar 2.0//EN
METHOD:PUBLISH
X-PUBLISHED-TTL:P3D
REFRESH-INTERVAL:P3D
CALSCALE:GREGORIAN
BEGIN:VEVENT
DTSTART:20260616T143000Z
DTEND:20260616T160000Z
X-MICROSOFT-CDO-ALLDAYEVENT:FALSE
SUMMARY:LAX Coastal Connections: Inform\, Involve and Inspire
DESCRIPTION:Connections and networking is one of the main pillars of the LAX Coastal Chamber. As we move forward\, we are looking to assist with making those connections even stronger.\n\n\n\nLAX Coastal Connections is our monthly breakfast meeting designed to provide business owners with an opportunity to Inform\, Involve\, and Inspire each other.\n\n\n\nInform: \n\nThis is an opportunity for your business to standout and inform everyone of who you are and what you represent. \n\n\n\nInvolve: \n\nThe agenda for Coastal Connections provides everyone a chance to see how we can become Involved with your business. Whether it's through support or providing a referral.\n\n\n\nInspire: \n\nWhat better way to build a connection than to have an opportunity to tell your story that will Inspire someone else.\n\n\n\nWe look forward to creating new bonds that connect businesses and bring people closer to each other.
X-ALT-DESC;FMTTYPE=text/html:<span style="font-size:12px\;">Connections and networking is one of the main pillars of the LAX Coastal Chamber. As we move forward\, we are looking to assist with making those connections even stronger.<br />\n<br />\nLAX Coastal Connections is our monthly breakfast meeting designed to provide business owners with an opportunity to Inform\, Involve\, and Inspire each other.<br />\n<br />\n<strong>Inform:&nbsp\;</strong><br />\nThis is an opportunity for your business to standout and inform everyone of who you are and what you represent.&nbsp\;<br />\n<br />\n<strong>Involve:&nbsp\;</strong><br />\nThe agenda for Coastal Connections provides everyone a chance to see how we can become Involved with your business. Whether it&rsquo\;s through support or providing a referral.<br />\n<br />\n<strong>Inspire:&nbsp\;</strong><br />\nWhat better way to build a connection than to have an opportunity to tell your story that will Inspire someone else.<br />\n<br />\nWe look forward to creating new bonds that connect businesses and bring people closer to each other.&nbsp\;&nbsp\;</span>
LOCATION:Hampton Inn & Suites LAX | El Segundo 888 N. Pacific Coast Hwy. El Segundo\, California 90245
UID:e.1534.10339
SEQUENCE:3
DTSTAMP:20260422T080726Z
URL:https://business.laxcoastal.com/events/details/lax-coastal-connections-a-business-referral-and-powerpartner-group-06-16-2026-10339
END:VEVENT

END:VCALENDAR
