BEGIN:VCALENDAR
VERSION:2.0
PRODID:-//ChamberMaster//Event Calendar 2.0//EN
METHOD:PUBLISH
X-PUBLISHED-TTL:P3D
REFRESH-INTERVAL:P3D
CALSCALE:GREGORIAN
BEGIN:VEVENT
DTSTART:20180920T233000Z
DTEND:20180921T013000Z
X-MICROSOFT-CDO-ALLDAYEVENT:FALSE
SUMMARY:Legal Workshop w/ SBDC
DESCRIPTION:If you are like many business owners\, you have worked hard\, sacrificed\, and built a meaningful business. Maybe you or your staff have also wrestled with business legal issues and tried to solve them on your own.\n\n\n\nJoin the El Camino College SBDC (Small Business Development Center) for this free legal workshop designed to simplify key issues relevant to growing businesses.\n\n\n\n_______________\n\n\n\nThe mission of the Small Business Development Center hosted by El Camino College is to be the number one service provider of no-cost\, expert entrepreneurial consulting\, education and access to capital assistance to the small business community in the greater South Bay and Los Angeles area.
X-ALT-DESC;FMTTYPE=text/html:<br />\nIf you are like many business owners\, you have worked hard\, sacrificed\, and built a meaningful business. Maybe you or your staff have also wrestled with business legal issues and tried to solve them on your own.<br />\n<br />\n<strong>Join the <a href="https://business.laxcoastal.com/list/member/el-camino-college-sbdc-3646">El Camino College SBDC</a> (Small Business Development Center) for this free legal workshop designed to simplify key issues relevant to growing businesses.<br />\n<br />\n_______________</strong><br />\n<br />\n<em>The mission of the Small Business Development Center hosted by El Camino College is to be the number one service provider of no-cost\, expert entrepreneurial consulting\, education and access to capital assistance to the small business community in the greater South Bay and Los Angeles area.</em><br />\n<br />\n&nbsp\;
LOCATION:El Camino College Alondra Room 16007 Crenshaw Blvd. Torrance\, CA 90506
UID:e.1534.7644
SEQUENCE:3
DTSTAMP:20260425T001815Z
URL:https://business.laxcoastal.com/events/details/legal-workshop-w-sbdc-7644
END:VEVENT

END:VCALENDAR
