BEGIN:VCALENDAR
VERSION:2.0
PRODID:-//ChamberMaster//Event Calendar 2.0//EN
METHOD:PUBLISH
X-PUBLISHED-TTL:P3D
REFRESH-INTERVAL:P3D
CALSCALE:GREGORIAN
BEGIN:VEVENT
DTSTART:20151207T180000Z
DTEND:20151208T030000Z
X-MICROSOFT-CDO-ALLDAYEVENT:FALSE
SUMMARY:Motivational Mondays @ LAX Coworking
DESCRIPTION:Meet new people\, make connections\, and discover the fantastic world of LAX Coworking\, all for only $5!\n\n\n\nThe holidays are upon us\, and sometimes that makes finding the motivation for work a little difficult. But\, where your motivation might falter\, the LAX Coastal Chamber is here to inspire you!\n\n\n\nFor only $5 come on in to the Chamber Office and cowork from 10AM-7PM\, and enjoy all of the free wifi\, coffee\, tea\, coconut water\, ping-pong\, mini pool\, darts\, beach balls\, collaboration\, smiles\, amazing company\, chalkboard walls\, and plane sightings you would ever need.\n\n\n\nDon't miss out on the best coworking space around where you can join a positive and productive work environment while you plan the next big move in your career.
X-ALT-DESC;FMTTYPE=text/html:<strong style="line-height: 20.8px\;">Meet new people\, make connections\, and discover the fantastic world of&nbsp\;<a href="http://www.laxcoworking.com">LAX&nbsp\;Coworking</a>\, all for only $5!</strong><br style="line-height: 20.8px\;" />\n<br style="line-height: 20.8px\;" />\n<span style="line-height: 20.8px\;">The holidays are upon us\, and sometimes that makes finding the motivation for work a little difficult. But\, where your motivation might falter\, the LAX Coastal Chamber&nbsp\;is here to inspire you!<br />\n<br />\nFor only $5 come on in to the Chamber Office and&nbsp\;</span>cowork<span style="line-height: 20.8px\;">&nbsp\;from&nbsp\;</span>10AM-7PM<span style="line-height: 20.8px\;">\, and enjoy all of the free&nbsp\;</span>wifi<span style="line-height: 20.8px\;">\, coffee\, tea\, coconut water\, ping-pong\, mini pool\, darts\, beach balls\, collaboration\, smiles\, amazing company\, chalkboard walls\, and plane sightings you would ever need.</span><br style="line-height: 20.8px\;" />\n<br style="line-height: 20.8px\;" />\n<span style="line-height: 20.8px\;">Don&#39\;t miss out on the best&nbsp\;</span>coworking<span style="line-height: 20.8px\;">&nbsp\;space around where you can join a positive and productive work environment while you plan the next big move in your career.</span>
LOCATION:LAX Coworking 9100 S. Sepulveda Blvd.\, Ste. 208 Los Angeles\, CA 90045
UID:e.1534.1178
SEQUENCE:3
DTSTAMP:20260422T233230Z
URL:https://business.laxcoastal.com/events/details/motivational-mondays-lax-coworking-12-07-2015-1178
END:VEVENT

END:VCALENDAR
