BEGIN:VCALENDAR
VERSION:2.0
PRODID:-//ChamberMaster//Event Calendar 2.0//EN
METHOD:PUBLISH
X-PUBLISHED-TTL:P3D
REFRESH-INTERVAL:P3D
CALSCALE:GREGORIAN
BEGIN:VEVENT
DTSTART:20201029T150000Z
DTEND:20201029T173000Z
X-MICROSOFT-CDO-ALLDAYEVENT:FALSE
SUMMARY:Registration Closed - State of the Westside w/Dr. Christopher Thornberg
DESCRIPTION:Join the Westside Council of Chambers (WC3) for the State of the Westside virtual networking event featuring Dr. Chris Thornberg of Beacon Economics. Dr. Thornberg will share economic data on the westside communities pre and post Covid-19 and give his insight into what we can expect on our road to recovery.\n\n\n\nGuests will also have the opportunity to network with Chamber members from:  Beverly Hills\, Century City\, Culver City\, Hollywood\, LAX Coastal\, Los Angeles Area\, Malibu\, Mar Vista\, Santa Monica\, Venice\, West Hollywood and West Los Angeles.
X-ALT-DESC;FMTTYPE=text/html:<span style="background:white\;"><span style="color:#333333\;"><span style="font-family:century gothic\,sans-serif\;">Join the Westside Council of Chambers (WC3) for&nbsp\;the State of the Westside&nbsp\;virtual networking&nbsp\;event featuring Dr. Chris Thornberg of Beacon Economics. Dr. Thornberg will share economic data on the westside communities pre and post Covid-19 and give his insight into what we can expect on our road to recovery.</span></span></span><br style="font-variant-ligatures:normal\;font-variant-caps:normal\;orphans:2\;text-align:start\;widows:2\;-webkit-text-stroke-width:0px\;text-decoration-style:initial\;word-spacing:0px\;" />\n<br style="font-variant-ligatures:normal\;font-variant-caps:normal\;orphans:2\;text-align:start\;widows:2\;-webkit-text-stroke-width:0px\;text-decoration-style:initial\;word-spacing:0px\;" />\n<span style="color:#333333\;"><span style="font-family:century gothic\,sans-serif\;"><span style="background:white\;"><span style="font-variant-ligatures:normal\;font-variant-caps:normal\;orphans:2\;text-align:start\;widows:2\;-webkit-text-stroke-width:0px\;text-decoration-style:initial\;float:none\;word-spacing:0px\;">Guests will also have the opportunity to network with Chamber members from:&nbsp\; Beverly Hills\, Century City\, Culver City\, Hollywood\, LAX Coastal\, Los Angeles Area\, Malibu\, Mar Vista\, Santa Monica\, Venice\, West Hollywood and West Los Angeles.</span></span></span></span>
LOCATION:Remo Platform
UID:e.1534.10238
SEQUENCE:3
DTSTAMP:20260423T220131Z
URL:https://business.laxcoastal.com/events/details/registration-closed-state-of-the-westside-w-dr-christopher-thornberg-10238
END:VEVENT

END:VCALENDAR
