BEGIN:VCALENDAR
VERSION:2.0
PRODID:-//ChamberMaster//Event Calendar 2.0//EN
METHOD:PUBLISH
X-PUBLISHED-TTL:P3D
REFRESH-INTERVAL:P3D
CALSCALE:GREGORIAN
BEGIN:VEVENT
DTSTART:20190131T194500Z
DTEND:20190131T210000Z
X-MICROSOFT-CDO-ALLDAYEVENT:FALSE
SUMMARY:10 Steps to Financial Success w/ Xceed Financial
DESCRIPTION:Join LAX Coworking for their New Year\, New Business series! With a new year comes new challenges\, but also new opportunities. Start 2019 off right with business and professional development\, presented by the LAX Coastal Chamber.\n\n\n\nFinancial success is not always dependent on income\; in fact\, many people earning an impressive salary struggle to make ends meet because they haven't followed the 10 basic steps discussed in this seminar.\n\n\n\nFrom developing a spending plan that works to setting goals to weighing insurance needs\, this presentation with Xceed Financial Credit Union covers the core concepts necessary to develop and maintain personal financial control.\n\n\n\n_______________\n\n\n\nHeadquartered in El Segundo\, California\, Xceed Financial is a federally chartered credit union that focuses on meeting the needs of businesses and their employees. With roots going back more than 85 years\, it now has nearly $1 billion in assets and 60\,000 members. \n\n\n\nXceed Financial partners with employers to deliver personal banking\, wealth management services\, and financial education to working adults and their families. The Credit Union has a five-star\, superior rating from BauerFinancial\, and was named one of CU Journal's "Best Credit Unions to Work For" in 2014\, 2015\, 2016 and 2017.\n\n\n\n_______________\n\n\n\nAdditional New Year\, New Business workshops:\n\n	January 4 - How to Make Fitness Work in your Busy Lifestyle w/ SoCalSport & Fitness\n	January 8 - Free Business Consulting w/ SBA\n	January 9 - Turning Action Into Results w/ a Tony Robbins Strategist\n	January 16 - Steps to Launch a New Business w/ SBDC\n	January 18 - Goal Setting for Business w/ The D*E*B Method\n	January 23 - Building a Better Brand for the New Year w/ HOW Creative\n	January 31 - 10 Steps to Financial Success w/ Xceed Financial
X-ALT-DESC;FMTTYPE=text/html:<br />\n<em style="box-sizing: content-box\; -webkit-font-smoothing: antialiased\; outline: none medium\; margin: 0px\; bottom: auto\; clear: none\; color: rgb(38\, 35\, 36)\; content: normal\; direction: inherit\; display: inline\; empty-cells: show\; font-variant-numeric: inherit\; font-variant-east-asian: inherit\; font-stretch: inherit\; font-size: 14px\; font-family: &quot\;Century Gothic&quot\;\, CenturyGothic\, AppleGothic\, sans-serif\; left: auto\; line-height: inherit\; max-height: none\; max-width: none\; min-height: initial\; min-width: initial\; opacity: 1\; outline-offset: 0px\; overflow: visible\; padding: 0px\; position: static\; resize: none\; right: auto\; table-layout: auto\; text-overflow: clip\; top: auto\; vertical-align: baseline\; visibility: inherit\; word-break: inherit\; overflow-wrap: inherit\; z-index: auto\; background-image: none\; background-position: initial\; background-size: initial\; background-repeat: initial\; background-attachment: initial\; background-origin: initial\; background-clip: initial\; border: none\; border-collapse: separate\; border-radius: 0px\; height: auto\; width: auto\; box-shadow: none\;"><span style="box-sizing: content-box\; -webkit-font-smoothing: antialiased\; outline: none medium\; margin: 0px\; font-weight: bolder\; bottom: auto\; clear: none\; color: inherit\; content: normal\; direction: inherit\; empty-cells: show\; font-style: inherit\; font-variant: inherit\; font-stretch: inherit\; font-size: inherit\; font-family: inherit\; left: auto\; letter-spacing: inherit\; line-height: inherit\; max-height: none\; max-width: none\; min-height: initial\; min-width: initial\; opacity: 1\; outline-offset: 0px\; overflow: visible\; padding: 0px\; position: static\; resize: none\; right: auto\; table-layout: auto\; text-align: inherit\; text-indent: inherit\; text-overflow: clip\; text-transform: inherit\; top: auto\; vertical-align: baseline\; visibility: inherit\; white-space: inherit\; word-break: inherit\; word-spacing: inherit\; overflow-wrap: inherit\; z-index: auto\; background: none\; border: none\; border-collapse: separate\; border-radius: 0px\; height: auto\; width: auto\; box-shadow: none\;"><span style="box-sizing: content-box\; -webkit-font-smoothing: antialiased\; outline: none medium\; margin: 0px\; bottom: auto\; clear: none\; color: rgb(178\, 34\, 34)\; content: normal\; direction: inherit\; empty-cells: show\; font: inherit\; left: auto\; letter-spacing: inherit\; max-height: none\; max-width: none\; min-height: initial\; min-width: initial\; opacity: 1\; outline-offset: 0px\; overflow: visible\; padding: 0px\; position: static\; resize: none\; right: auto\; table-layout: auto\; text-align: inherit\; text-indent: inherit\; text-overflow: clip\; text-transform: inherit\; top: auto\; vertical-align: baseline\; visibility: inherit\; white-space: inherit\; word-break: inherit\; word-spacing: inherit\; overflow-wrap: inherit\; z-index: auto\; background: none\; border: none\; border-collapse: separate\; border-radius: 0px\; height: auto\; width: auto\; box-shadow: none\;">Join LAX Coworking for their New Year\, New Business series!&nbsp\;</span>With a new year comes new challenges\, but also new opportunities. Start 2019 off right with business and professional development\, presented by the LAX Coastal Chamber.</span></em><br />\n<br />\n<b>Financial success is not always dependent on income\; </b>in fact\, many people earning an impressive salary struggle to make ends meet because they haven&#39\;t followed the 10 basic steps discussed in this seminar.<br />\n<br />\nFrom developing a spending plan that works to setting goals to weighing insurance needs\, this presentation with <a href="https://business.laxcoastal.com/list/member/xceed-financial-credit-union-6525"><strong>Xceed Financial Credit Union</strong></a> covers the core concepts necessary to develop and maintain personal financial control.<br />\n<br />\n_______________<br />\n<br />\n<em>Headquartered in El Segundo\, California\, Xceed Financial is a federally chartered credit union that focuses on meeting the needs of businesses and their employees. With roots going back more than 85 years\, it now has nearly $1 billion in assets and 60\,000 members.&nbsp\;<br />\n<br />\nXceed Financial partners with employers to deliver personal banking\, wealth management services\, and financial education to working adults and their families.&nbsp\;The Credit Union has a five-star\, superior rating from BauerFinancial\, and was named one of CU Journal&rsquo\;s &ldquo\;Best Credit Unions to Work For&rdquo\; in 2014\, 2015\, 2016 and 2017.</em><br />\n<br />\n_______________<br />\n<br />\n<strong>Additional New Year\, New Business workshops:</strong>\n<ul>\n	<li><a href="https://business.laxcoastal.com/events/details/overcome-the-office-how-to-make-fitness-work-in-your-busy-lifestyle-w-socalsport-and-fitness-7884"><strong>January 4 - How to Make Fitness Work in your Busy Lifestyle w/ SoCalSport &amp\; Fitness</strong></a></li>\n	<li><a href="https://business.laxcoastal.com/events/details/sbdc-office-hours-lax-coworking-01-08-2019-7845"><strong>January 8 - Free Business Consulting w/ SBA</strong></a></li>\n	<li><a href="https://business.laxcoastal.com/events/details/turning-action-into-results-w-a-tony-robbins-strategist-7878"><strong>January 9 -&nbsp\;Turning Action Into Results w/ a Tony Robbins Strategist</strong></a></li>\n	<li><a href="https://business.laxcoastal.com/events/details/steps-to-launch-a-new-business-w-sbdc-7886"><strong>January 16 - Steps to Launch a New Business w/ SBDC</strong></a></li>\n	<li><a href="https://business.laxcoastal.com/events/details/goal-setting-for-business-w-the-d-e-b-method-7786"><strong>January 18 - Goal Setting for Business w/ The D*E*B Method</strong></a></li>\n	<li><a href="https://business.laxcoastal.com/events/details/building-a-better-brand-for-the-new-year-w-how-creative-7864"><strong>January 23 - Building a Better Brand for the New Year w/ HOW Creative</strong></a></li>\n	<li><a href="https://business.laxcoastal.com/events/details/10-steps-to-financial-success-w-xceed-financial-8010"><strong>January 31 - 10 Steps to Financial Success w/ Xceed Financial</strong></a></li>\n</ul>\n
LOCATION:Chamber Office 9100 S. Sepulveda Blvd.\, Ste. 210 Los Angeles\, CA 90045
UID:e.1534.8010
SEQUENCE:3
DTSTAMP:20260423T020520Z
URL:https://business.laxcoastal.com/events/details/10-steps-to-financial-success-w-xceed-financial-8010
END:VEVENT

END:VCALENDAR
