BEGIN:VCALENDAR
VERSION:2.0
PRODID:-//ChamberMaster//Event Calendar 2.0//EN
METHOD:PUBLISH
X-PUBLISHED-TTL:P3D
REFRESH-INTERVAL:P3D
CALSCALE:GREGORIAN
BEGIN:VEVENT
DTSTART:20190118T193000Z
DTEND:20190118T210000Z
X-MICROSOFT-CDO-ALLDAYEVENT:FALSE
SUMMARY:Goal Setting for Business w/ The D*E*B Method
DESCRIPTION:Join LAX Coworking for their New Year\, New Business series! With a new year comes new challenges\, but also new opportunities. Start 2019 off right with business and professional development\, presented by the LAX Coastal Chamber.\n\n\n\nJoin us for a Lunch 'N' Learn presentation from Debra Eckerling of The D*E*B Method regarding "Goal Setting for Business."\n\n\n\nStart the year off right with a goal-setting Lunch N Learn. Come up with a mission statement\, set short and long-term goals\, prioritize\, make a plan\, and get ready to take on 2019!\n\n\n\nLunch will be provided by Benny's Tacos & Chicken Rotisserie.\n\n\n\n__________\n\n\n\n\n\nThe D*E*B Method is Debra Eckerling's system for setting and achieving goals\, whether it's for business or personal projects. While the name may be new\, these are the techniques\, tools\, and strategies she has been using for years with her clients\, workshops\, and groups.\n\n\n\nLearn more here.\n\n\n\n_______________\n\n\n\nAdditional New Year\, New Business workshops:\n\n	January 4 - How to Make Fitness Work in your Busy Lifestyle w/ SoCalSport & Fitness\n	January 8 - Free Business Consulting w/ SBA\n	January 9 - Turning Action Into Results w/ a Tony Robbins Strategist\n	January 16 - Steps to Launch a New Business w/ SBDC\n	January 18 - Goal Setting for Business w/ The D*E*B Method\n	January 23 - Building a Better Brand for the New Year w/ HOW Creative\n	January 31 - 10 Steps to Financial Success w/ Xceed Financial
X-ALT-DESC;FMTTYPE=text/html:<br />\n<em style="box-sizing: content-box\; -webkit-font-smoothing: antialiased\; outline: none medium\; margin: 0px\; bottom: auto\; clear: none\; color: rgb(38\, 35\, 36)\; content: normal\; direction: inherit\; display: inline\; empty-cells: show\; font-variant-numeric: inherit\; font-variant-east-asian: inherit\; font-stretch: inherit\; font-size: 14px\; font-family: &quot\;Century Gothic&quot\;\, CenturyGothic\, AppleGothic\, sans-serif\; left: auto\; line-height: inherit\; max-height: none\; max-width: none\; min-height: initial\; min-width: initial\; opacity: 1\; outline-offset: 0px\; overflow: visible\; padding: 0px\; position: static\; resize: none\; right: auto\; table-layout: auto\; text-overflow: clip\; top: auto\; vertical-align: baseline\; visibility: inherit\; word-break: inherit\; overflow-wrap: inherit\; z-index: auto\; background-image: none\; background-position: initial\; background-size: initial\; background-repeat: initial\; background-attachment: initial\; background-origin: initial\; background-clip: initial\; border: none\; border-collapse: separate\; border-radius: 0px\; height: auto\; width: auto\; box-shadow: none\;"><span style="box-sizing: content-box\; -webkit-font-smoothing: antialiased\; outline: none medium\; margin: 0px\; font-weight: bolder\; bottom: auto\; clear: none\; color: inherit\; content: normal\; direction: inherit\; empty-cells: show\; font-style: inherit\; font-variant: inherit\; font-stretch: inherit\; font-size: inherit\; font-family: inherit\; left: auto\; letter-spacing: inherit\; line-height: inherit\; max-height: none\; max-width: none\; min-height: initial\; min-width: initial\; opacity: 1\; outline-offset: 0px\; overflow: visible\; padding: 0px\; position: static\; resize: none\; right: auto\; table-layout: auto\; text-align: inherit\; text-indent: inherit\; text-overflow: clip\; text-transform: inherit\; top: auto\; vertical-align: baseline\; visibility: inherit\; white-space: inherit\; word-break: inherit\; word-spacing: inherit\; overflow-wrap: inherit\; z-index: auto\; background: none\; border: none\; border-collapse: separate\; border-radius: 0px\; height: auto\; width: auto\; box-shadow: none\;"><span style="box-sizing: content-box\; -webkit-font-smoothing: antialiased\; outline: none medium\; margin: 0px\; bottom: auto\; clear: none\; color: rgb(178\, 34\, 34)\; content: normal\; direction: inherit\; empty-cells: show\; font: inherit\; left: auto\; letter-spacing: inherit\; max-height: none\; max-width: none\; min-height: initial\; min-width: initial\; opacity: 1\; outline-offset: 0px\; overflow: visible\; padding: 0px\; position: static\; resize: none\; right: auto\; table-layout: auto\; text-align: inherit\; text-indent: inherit\; text-overflow: clip\; text-transform: inherit\; top: auto\; vertical-align: baseline\; visibility: inherit\; white-space: inherit\; word-break: inherit\; word-spacing: inherit\; overflow-wrap: inherit\; z-index: auto\; background: none\; border: none\; border-collapse: separate\; border-radius: 0px\; height: auto\; width: auto\; box-shadow: none\;">Join LAX Coworking for their New Year\, New Business series!&nbsp\;</span>With a new year comes new challenges\, but also new opportunities. Start 2019 off right with business and professional development\, presented by the LAX Coastal Chamber.</span></em><br />\n<br />\n<strong>Join us for a Lunch &#39\;N&#39\; Learn presentation from Debra Eckerling of <a href="http://thedebmethod.com/">The D*E*B Method</a> regarding &quot\;Goal Setting for Business.&quot\;</strong><br />\n<br />\nStart the year off right with a goal-setting Lunch N Learn. Come up with a mission statement\, set short and long-term goals\, prioritize\, make a plan\, and get ready to take on 2019!<br />\n<br />\nLunch will be provided by <a href="https://business.laxcoastal.com/list/member/benny-s-tacos-chicken-rotisserie-los-angeles-3770"><strong>Benny&#39\;s Tacos &amp\; Chicken Rotisserie.</strong></a><br />\n<br />\n__________<br />\n<br />\n<br />\n<em>The D*E*B Method is Debra Eckerling&#39\;s system for setting and achieving goals\, whether it&rsquo\;s for business or personal projects. While the name may be new\, these are the techniques\, tools\, and strategies she has been using for years with her clients\, workshops\, and groups.<br />\n<br />\n<strong><a href="https://www.facebook.com/pages/story/reader/?page_story_id=203738996895922">Learn more here.</a></strong></em><br />\n<br />\n_______________<br />\n<br />\n<strong>Additional New Year\, New Business workshops:</strong>\n<ul>\n	<li><a href="https://business.laxcoastal.com/events/details/overcome-the-office-how-to-make-fitness-work-in-your-busy-lifestyle-w-socalsport-and-fitness-7884"><strong>January 4 - How to Make Fitness Work in your Busy Lifestyle w/ SoCalSport &amp\; Fitness</strong></a></li>\n	<li><a href="https://business.laxcoastal.com/events/details/sbdc-office-hours-lax-coworking-01-08-2019-7845"><strong>January 8 - Free Business Consulting w/ SBA</strong></a></li>\n	<li><a href="https://business.laxcoastal.com/events/details/turning-action-into-results-w-a-tony-robbins-strategist-7878"><strong>January 9 -&nbsp\;Turning Action Into Results w/ a Tony Robbins Strategist</strong></a></li>\n	<li><a href="https://business.laxcoastal.com/events/details/steps-to-launch-a-new-business-w-sbdc-7886"><strong>January 16 - Steps to Launch a New Business w/ SBDC</strong></a></li>\n	<li><a href="https://business.laxcoastal.com/events/details/goal-setting-for-business-w-the-d-e-b-method-7786"><strong>January 18 - Goal Setting for Business w/ The D*E*B Method</strong></a></li>\n	<li><a href="https://business.laxcoastal.com/events/details/building-a-better-brand-for-the-new-year-w-how-creative-7864"><strong>January 23 - Building a Better Brand for the New Year w/ HOW Creative</strong></a></li>\n	<li><a href="https://business.laxcoastal.com/events/details/10-steps-to-financial-success-w-xceed-financial-8010"><strong>January 31 - 10 Steps to Financial Success w/ Xceed Financial</strong></a></li>\n</ul>\n<br />\n&nbsp\;
LOCATION:Chamber Office 9100 S. Sepulveda Blvd.\, Ste. 210 Los Angeles\, CA 90045
UID:e.1534.7786
SEQUENCE:3
DTSTAMP:20260423T005320Z
URL:https://business.laxcoastal.com/events/details/goal-setting-for-business-w-the-d-e-b-method-7786
END:VEVENT

END:VCALENDAR
