BEGIN:VCALENDAR
VERSION:2.0
PRODID:-//ChamberMaster//Event Calendar 2.0//EN
METHOD:PUBLISH
X-PUBLISHED-TTL:P3D
REFRESH-INTERVAL:P3D
CALSCALE:GREGORIAN
BEGIN:VEVENT
DTSTART:20190104T194500Z
DTEND:20190104T210000Z
X-MICROSOFT-CDO-ALLDAYEVENT:FALSE
SUMMARY:Overcome the Office - How to Make Fitness Work in your Busy Lifestyle w/ SoCalSport and Fitness
DESCRIPTION:Join LAX Coworking for their New Year\, New Business series! With a new year comes new challenges\, but also new opportunities. Start 2019 off right with business and professional development\, presented by the LAX Coastal Chamber.\n\n\n\nMost of us have a hard time balancing work and a healthy lifestyle. Work demands seem never-ending and fitness takes a major backseat\; but there is hope! \n\n\n\nDuring this Lunch N Learn\, Jeff Blair of SoCalSport and Fitness will show you how to get more done in less time\, and maintain a healthy mind and body without giving up your day job.\n\n\n\nThis workshop will tell the stories of many who have "Overcome the Office" and maximized their fitness results in just a few hours per week. We promise you will leave with a Fitness Success Strategy to put you on the winning track.\n\n_______________\n\n\n\nJeff Blair is an award-winning personal trainer\, a fitness author and a highly experienced personal trainer.  He has been featured in numerous American and international fitness publications and writes a monthly fitness article for the local "Hometown News."  Jeff holds a Master's Degree in Exercise Science.  He is founder of the SoCalSport and Fitness Personal Training Studio located in Westchester. \n\n\n\n_______________\n\n\n\nAdditional New Year\, New Business workshops:\n\n	January 4 - How to Make Fitness Work in your Busy Lifestyle w/ SoCalSport & Fitness\n	January 8 - Free Business Consulting w/ SBA\n	January 9 - Turning Action Into Results w/ a Tony Robbins Strategist\n	January 16 - Steps to Launch a New Business w/ SBDC\n	January 18 - Goal Setting for Business w/ The D*E*B Method\n	January 23 - Building a Better Brand for the New Year w/ HOW Creative\n	January 31 - 10 Steps to Financial Success w/ Xceed Financial
X-ALT-DESC;FMTTYPE=text/html:<br />\n<em style="box-sizing: content-box\; -webkit-font-smoothing: antialiased\; outline: none medium\; margin: 0px\; bottom: auto\; clear: none\; color: rgb(38\, 35\, 36)\; content: normal\; direction: inherit\; display: inline\; empty-cells: show\; font-variant-numeric: inherit\; font-variant-east-asian: inherit\; font-stretch: inherit\; font-size: 14px\; font-family: &quot\;Century Gothic&quot\;\, CenturyGothic\, AppleGothic\, sans-serif\; left: auto\; line-height: inherit\; max-height: none\; max-width: none\; min-height: initial\; min-width: initial\; opacity: 1\; outline-offset: 0px\; overflow: visible\; padding: 0px\; position: static\; resize: none\; right: auto\; table-layout: auto\; text-overflow: clip\; top: auto\; vertical-align: baseline\; visibility: inherit\; word-break: inherit\; overflow-wrap: inherit\; z-index: auto\; background-image: none\; background-position: initial\; background-size: initial\; background-repeat: initial\; background-attachment: initial\; background-origin: initial\; background-clip: initial\; border: none\; border-collapse: separate\; border-radius: 0px\; height: auto\; width: auto\; box-shadow: none\;"><span style="box-sizing: content-box\; -webkit-font-smoothing: antialiased\; outline: none medium\; margin: 0px\; font-weight: bolder\; bottom: auto\; clear: none\; color: inherit\; content: normal\; direction: inherit\; empty-cells: show\; font-style: inherit\; font-variant: inherit\; font-stretch: inherit\; font-size: inherit\; font-family: inherit\; left: auto\; letter-spacing: inherit\; line-height: inherit\; max-height: none\; max-width: none\; min-height: initial\; min-width: initial\; opacity: 1\; outline-offset: 0px\; overflow: visible\; padding: 0px\; position: static\; resize: none\; right: auto\; table-layout: auto\; text-align: inherit\; text-indent: inherit\; text-overflow: clip\; text-transform: inherit\; top: auto\; vertical-align: baseline\; visibility: inherit\; white-space: inherit\; word-break: inherit\; word-spacing: inherit\; overflow-wrap: inherit\; z-index: auto\; background: none\; border: none\; border-collapse: separate\; border-radius: 0px\; height: auto\; width: auto\; box-shadow: none\;"><span style="box-sizing: content-box\; -webkit-font-smoothing: antialiased\; outline: none medium\; margin: 0px\; bottom: auto\; clear: none\; color: rgb(178\, 34\, 34)\; content: normal\; direction: inherit\; empty-cells: show\; font: inherit\; left: auto\; letter-spacing: inherit\; max-height: none\; max-width: none\; min-height: initial\; min-width: initial\; opacity: 1\; outline-offset: 0px\; overflow: visible\; padding: 0px\; position: static\; resize: none\; right: auto\; table-layout: auto\; text-align: inherit\; text-indent: inherit\; text-overflow: clip\; text-transform: inherit\; top: auto\; vertical-align: baseline\; visibility: inherit\; white-space: inherit\; word-break: inherit\; word-spacing: inherit\; overflow-wrap: inherit\; z-index: auto\; background: none\; border: none\; border-collapse: separate\; border-radius: 0px\; height: auto\; width: auto\; box-shadow: none\;">Join LAX Coworking for their New Year\, New Business series!&nbsp\;</span>With a new year comes new challenges\, but also new opportunities. Start 2019 off right with business and professional development\, presented by the LAX Coastal Chamber.</span></em><br />\n<br />\n<strong>Most of us have a hard time balancing work and a healthy lifestyle.&nbsp\;</strong>Work demands seem never-ending and fitness takes a major backseat\; but there is hope!&nbsp\;<br />\n<br />\nDuring this Lunch N Learn\, Jeff Blair of <strong><a href="https://business.laxcoastal.com/list/member/socalsport-and-fitness-3306">SoCalSport and Fitness</a></strong> will show you how to get more done in less time\, and maintain a healthy mind and body without giving up your day job.<br />\n<br />\nThis workshop will tell the stories of many who have &quot\;Overcome the Office&quot\; and maximized their fitness results in just a few hours per week. We promise you will leave with a Fitness Success Strategy to put you on the winning track.<br />\n_______________<br />\n<br />\n<em>Jeff Blair is an award-winning personal trainer\, a fitness author and a highly experienced personal trainer.&nbsp\; He has been featured in numerous American and international fitness publications and writes a monthly fitness article for the local &quot\;Hometown News.&quot\;&nbsp\; Jeff holds a Master&#39\;s Degree in Exercise Science.&nbsp\; He is founder of the SoCalSport and Fitness Personal Training Studio located in Westchester.&nbsp\;</em><br />\n<br />\n_______________<br />\n<br />\n<strong>Additional New Year\, New Business workshops:</strong>\n<ul>\n	<li><a href="https://business.laxcoastal.com/events/details/overcome-the-office-how-to-make-fitness-work-in-your-busy-lifestyle-w-socalsport-and-fitness-7884"><strong>January 4 - How to Make Fitness Work in your Busy Lifestyle w/ SoCalSport &amp\; Fitness</strong></a></li>\n	<li><a href="https://business.laxcoastal.com/events/details/sbdc-office-hours-lax-coworking-01-08-2019-7845"><strong>January 8 - Free Business Consulting w/ SBA</strong></a></li>\n	<li><a href="https://business.laxcoastal.com/events/details/turning-action-into-results-w-a-tony-robbins-strategist-7878"><strong>January 9 -&nbsp\;Turning Action Into Results w/ a Tony Robbins Strategist</strong></a></li>\n	<li><a href="https://business.laxcoastal.com/events/details/steps-to-launch-a-new-business-w-sbdc-7886"><strong>January 16 - Steps to Launch a New Business w/ SBDC</strong></a></li>\n	<li><a href="https://business.laxcoastal.com/events/details/goal-setting-for-business-w-the-d-e-b-method-7786"><strong>January 18 - Goal Setting for Business w/ The D*E*B Method</strong></a></li>\n	<li><a href="https://business.laxcoastal.com/events/details/building-a-better-brand-for-the-new-year-w-how-creative-7864"><strong>January 23 - Building a Better Brand for the New Year w/ HOW Creative</strong></a></li>\n	<li><a href="https://business.laxcoastal.com/events/details/10-steps-to-financial-success-w-xceed-financial-8010"><strong>January 31 - 10 Steps to Financial Success w/ Xceed Financial</strong></a></li>\n</ul>\n<br />\n<br />\n&nbsp\;
LOCATION:Chamber Office 9100 S. Sepulveda Blvd.\, Ste. 210 Los Angeles\, CA 90045
UID:e.1534.7884
SEQUENCE:3
DTSTAMP:20260423T022114Z
URL:https://business.laxcoastal.com/events/details/overcome-the-office-how-to-make-fitness-work-in-your-busy-lifestyle-w-socalsport-and-fitness-7884
END:VEVENT

END:VCALENDAR
